BEGIN:VCALENDAR
VERSION:2.0
PRODID:-//St Kevin Roman Catholic Church Men&#039;s Emmaus Ministry - ECPv6.15.20//NONSGML v1.0//EN
CALSCALE:GREGORIAN
METHOD:PUBLISH
X-WR-CALNAME:St Kevin Roman Catholic Church Men&#039;s Emmaus Ministry
X-ORIGINAL-URL:https://www.skmensemmaus.org
X-WR-CALDESC:Events for St Kevin Roman Catholic Church Men&#039;s Emmaus Ministry
REFRESH-INTERVAL;VALUE=DURATION:PT1H
X-Robots-Tag:noindex
X-PUBLISHED-TTL:PT1H
BEGIN:VTIMEZONE
TZID:America/New_York
BEGIN:DAYLIGHT
TZOFFSETFROM:-0500
TZOFFSETTO:-0400
TZNAME:EDT
DTSTART:20180311T070000
END:DAYLIGHT
BEGIN:STANDARD
TZOFFSETFROM:-0400
TZOFFSETTO:-0500
TZNAME:EST
DTSTART:20181104T060000
END:STANDARD
BEGIN:DAYLIGHT
TZOFFSETFROM:-0500
TZOFFSETTO:-0400
TZNAME:EDT
DTSTART:20190310T070000
END:DAYLIGHT
BEGIN:STANDARD
TZOFFSETFROM:-0400
TZOFFSETTO:-0500
TZNAME:EST
DTSTART:20191103T060000
END:STANDARD
BEGIN:DAYLIGHT
TZOFFSETFROM:-0500
TZOFFSETTO:-0400
TZNAME:EDT
DTSTART:20200308T070000
END:DAYLIGHT
BEGIN:STANDARD
TZOFFSETFROM:-0400
TZOFFSETTO:-0500
TZNAME:EST
DTSTART:20201101T060000
END:STANDARD
END:VTIMEZONE
BEGIN:VEVENT
DTSTART;TZID=America/New_York:20190323T080000
DTEND;TZID=America/New_York:20190323T140000
DTSTAMP:20260423T131554
CREATED:20190322T142928Z
LAST-MODIFIED:20190322T143342Z
UID:1864-1553328000-1553349600@www.skmensemmaus.org
SUMMARY:SK Men's Emmaus Retreat Fundraiser @ St Matthew the Apostle Episcopal Church
DESCRIPTION:Beautiful different variety of bromeliads plants for sale to raise money for upcoming May 2019 St Kevin Men’s Emmaus Spiritual Retreat (Learn more). \nPrices: \n\n1 @ $5\n2 @ $7 ($3.50 ea\, Save $1.50 ea)\n3 @ $10 ($3.33 ea\, Save $1.67 ea)\n5 @ $15 ($3.00 ea\, Save $2.00 ea)\n7 @ $20 ($2.85 ea\, Save $2.15 ea)\n10 @ $25 ($2.50 ea\, Save $2.50 ea)\n\nVolunteers needed to: \n\nSetup Booth – Team (7:30 am Sharp!)\nMan Booth – Shift Teams (8:00 am – 2:00 pm) \, and\nTear-down/Pick-up/Clean-up Booth (2:00 pm Sharp!)\n\nVolunteers please contact event organizers to coordinate assignments and shifts availability. \nNote: If you are not able to volunteer for this event\, we welcome you to visit us with your family and friends just to say hello for support. Who knows\, you might decide to spruce up your home with these beautiful plants and/or give them as a gift. \nShare this:\n				Share on X (Opens in new window)\n				X\n			\n				Share on Facebook (Opens in new window)\n				Facebook\n			Like this:Like Loading...
URL:https://www.skmensemmaus.org/event/sk-mens-emmaus-retreat-fundraiser-st-matthew-the-apostle-episcopal-church/
LOCATION:St Matthew the Apostle Episcopal Church\, 7410 Sunset Drive\, Miami\, FL\, 33143\, United States
CATEGORIES:Fundraisers
END:VEVENT
BEGIN:VEVENT
DTSTART;TZID=America/New_York:20190316T080000
DTEND;TZID=America/New_York:20190316T140000
DTSTAMP:20260423T131554
CREATED:20190314T163313Z
LAST-MODIFIED:20190314T163951Z
UID:1807-1552723200-1552744800@www.skmensemmaus.org
SUMMARY:SK Men's Emmaus Retreat Fundraiser @ St. Andrew Greek Orthodox Church
DESCRIPTION:Beautiful different variety of bromeliads plants for sale to raise money for upcoming May 2019 St Kevin Men’s Emmaus Spiritual Retreat (Learn more). \nPrices: \n\n1 @ $5\n2 @ $7 ($3.50 ea\, Save $1.50 ea)\n3 @ $10 ($3.33 ea\, Save $1.67 ea)\n5 @ $15 ($3.00 ea\, Save $2.00 ea)\n7 @ $20 ($2.85 ea\, Save $2.15 ea)\n10 @ $25 ($2.50 ea\, Save $2.50 ea)\n\nVolunteers needed to: \n\nSetup Booth – Team (7:30 am Sharp!)\nMan Booth – Shift Teams (8:00 am – 2:00 pm) \, and\nTear-down/Pick-up/Clean-up Booth (2:00 pm Sharp!)\n\nVolunteers please contact event organizers to coordinate assignments and shifts availability. \nNote: If you are not able to volunteer for this event\, we welcome you to visit us with your family and friends just to say hello for support. Who knows\, you might decide to spruce up your home with these beautiful plants and/or give them as a gift. \nShare this:\n				Share on X (Opens in new window)\n				X\n			\n				Share on Facebook (Opens in new window)\n				Facebook\n			Like this:Like Loading...
URL:https://www.skmensemmaus.org/event/sk-mens-emmaus-retreat-fundraiser-st-andrew-greek-orthodox-church/
LOCATION:St. Andrew Greek Orthodox Church\, 7901 N Kendall Dr\, Miami\, FL\, 33156\, United States
CATEGORIES:Fundraisers
END:VEVENT
BEGIN:VEVENT
DTSTART;TZID=America/New_York:20190302T080000
DTEND;TZID=America/New_York:20190302T140000
DTSTAMP:20260423T131554
CREATED:20190228T162209Z
LAST-MODIFIED:20190314T163108Z
UID:1699-1551513600-1551535200@www.skmensemmaus.org
SUMMARY:SK Men's Emmaus Retreat Fundraiser @ South Miami Lutheran Church
DESCRIPTION:Beautiful different variety of bromeliads plants for sale to raise money for upcoming May 2019 St Kevin Men’s Emmaus Spiritual Retreat (Learn more). \nPrices: \n\n1 @ $5\n2 @ $7 ($3.50 ea\, Save $1.50 ea)\n3 @ $10 ($3.33 ea\, Save $1.67 ea)\n5 @ $15 ($3.00 ea\, Save $2.00 ea)\n7 @ $20 ($2.85 ea\, Save $2.15 ea)\n10 @ $25 ($2.50 ea\, Save $2.50 ea)\n\nVolunteers needed to: \n\nSetup Booth – Team\nMan Booth – Shift Teams\, and\nTear-down/Pick-up/Clean-up Booth\n\nVolunteers please contact event organizers to coordinate assignments and shifts availability. \nNote: If you are not able to volunteer for this event\, we welcome you to visit us with your family and friends just to say hello for support. Who knows\, you might decide to spruce up your home with these beautiful plants and/or give them as a gift. \nShare this:\n				Share on X (Opens in new window)\n				X\n			\n				Share on Facebook (Opens in new window)\n				Facebook\n			Like this:Like Loading...
URL:https://www.skmensemmaus.org/event/mens-emmaus-retreat-fundraiser-plant-sale-south-miami-lutheran-church/
LOCATION:South Miami Lutheran Church\, 7190 Sunset Dr\, Miami\, FL\, 33143\, United States
CATEGORIES:Fundraisers
END:VEVENT
END:VCALENDAR