BEGIN:VCALENDAR
VERSION:2.0
PRODID:-//St Kevin Roman Catholic Church Men&#039;s Emmaus Ministry - ECPv6.15.20//NONSGML v1.0//EN
CALSCALE:GREGORIAN
METHOD:PUBLISH
X-WR-CALNAME:St Kevin Roman Catholic Church Men&#039;s Emmaus Ministry
X-ORIGINAL-URL:https://www.skmensemmaus.org
X-WR-CALDESC:Events for St Kevin Roman Catholic Church Men&#039;s Emmaus Ministry
REFRESH-INTERVAL;VALUE=DURATION:PT1H
X-Robots-Tag:noindex
X-PUBLISHED-TTL:PT1H
BEGIN:VTIMEZONE
TZID:America/New_York
BEGIN:DAYLIGHT
TZOFFSETFROM:-0500
TZOFFSETTO:-0400
TZNAME:EDT
DTSTART:20180311T070000
END:DAYLIGHT
BEGIN:STANDARD
TZOFFSETFROM:-0400
TZOFFSETTO:-0500
TZNAME:EST
DTSTART:20181104T060000
END:STANDARD
BEGIN:DAYLIGHT
TZOFFSETFROM:-0500
TZOFFSETTO:-0400
TZNAME:EDT
DTSTART:20190310T070000
END:DAYLIGHT
BEGIN:STANDARD
TZOFFSETFROM:-0400
TZOFFSETTO:-0500
TZNAME:EST
DTSTART:20191103T060000
END:STANDARD
BEGIN:DAYLIGHT
TZOFFSETFROM:-0500
TZOFFSETTO:-0400
TZNAME:EDT
DTSTART:20200308T070000
END:DAYLIGHT
BEGIN:STANDARD
TZOFFSETFROM:-0400
TZOFFSETTO:-0500
TZNAME:EST
DTSTART:20201101T060000
END:STANDARD
END:VTIMEZONE
BEGIN:VEVENT
DTSTART;VALUE=DATE:20190517
DTEND;VALUE=DATE:20190520
DTSTAMP:20260425T064414
CREATED:20190214T233648Z
LAST-MODIFIED:20190314T033205Z
UID:1683-1558051200-1558310399@www.skmensemmaus.org
SUMMARY:St Kevin Men's Emmaus Spiritual Retreat
DESCRIPTION:What is Emmaus? It is a Christian retreat put on by men of this parish\, where you will spend the weekend with newfound friends in the presence of the Lord. Emmaus gets its name from the Gospel of Luke 24: 13–35\, wherein Luke recounts that first Easter afternoon when the risen Christ appeared along the road from Jerusalem to Emmaus. \nLike the majority of the persons who are blinded by their preoccupation with their own immediate problems\, these two disciples’ sadness and hopelessness seemed to prevent them from seeing God’s redemptive purpose in the things that had happened. And yet\, the risen Christ “came near and went with them”\, opening disciples eyes to His presence and lighting the fire of God’s love in their hearts. \nThe Emmaus movement is ecumenical. We invite involve Christians of all denominations. Emmaus also seeks to foster Christian unity and to reinforce the whole Christian community. This is one of the great strengths and enjoys of the Emmaus movement. \nWhy Emmaus? We all need to take time away from the hustle of today’s world. This is your opportunity to set some time apart for yourself\, to reflect\, to share\, and to learn about Jesus. \nWhat happens during the retreat? The walk to Emmaus offers retreatants an opportunity to rediscover Christ’s presence in their lives\, to gain a fresh understanding of God’s grace\, and to form friendships that foster faith and support spiritual maturity. \nHow much does it cost? Other than volunteer retreat team members\, there is no charge to attend retreat\, a gift made possible from the parish’s Men’s Emmaus ministry semi-annual fundraisers and donations (any remaining funds after the retreat are donated to our parish). However\, you are more than welcomed to make donations at any time payable to “Men’s Emmaus” and drop-off at our church’s rectory. \nCan I bring a friend? Everyone is always welcomed. However\, each person attending must complete and submit registration form no later than 12:00 noon the day before retreat starts to insure proper accommodations. Space limited to 50 retreatants. \nRetreat Need to Know \n\n\n\n\nRetreat Schedule  \nThree days and two nights \n\n\nChecklist \nPersonal items you need to bring for retreat \n\n\n\nDate\nFri May 17th – Sun May 19th\, 2019\n□ Towel(s) \n□ Toiletries \n□ Pillow \n□ Beddings \n□ Pajamas\, etc..\n□ Casual comfortable clothing \n□ Medication(s) \n□ Big appetite!\n\n\nTime\nFri 6:30 PM Sharp\, Sun 3:30 PM\n\n\nLocation\n12525 SW 42nd St\, Miami\, FL 33175\n\n\nMass\nSun\, May 26th\, 2019 @ 11:15 AM\n\n\nContact\nFor more info call (000) 000-0000\n\n\n\nShare this:\n				Share on X (Opens in new window)\n				X\n			\n				Share on Facebook (Opens in new window)\n				Facebook\n			Like this:Like Loading...
URL:https://www.skmensemmaus.org/event/st-kevin-mens-emmaus-spiritual-retreat-2/
LOCATION:St Kevin Roman Catholic Church\, 12525 SW 42nd Street\, Miami\, FL\, 33175\, United States
CATEGORIES:Retreats
END:VEVENT
END:VCALENDAR