BEGIN:VCALENDAR
VERSION:2.0
PRODID:-//St Kevin Roman Catholic Church Men&#039;s Emmaus Ministry - ECPv6.15.20//NONSGML v1.0//EN
CALSCALE:GREGORIAN
METHOD:PUBLISH
X-ORIGINAL-URL:https://www.skmensemmaus.org
X-WR-CALDESC:Events for St Kevin Roman Catholic Church Men&#039;s Emmaus Ministry
REFRESH-INTERVAL;VALUE=DURATION:PT1H
X-Robots-Tag:noindex
X-PUBLISHED-TTL:PT1H
BEGIN:VTIMEZONE
TZID:America/New_York
BEGIN:DAYLIGHT
TZOFFSETFROM:-0500
TZOFFSETTO:-0400
TZNAME:EDT
DTSTART:20180311T070000
END:DAYLIGHT
BEGIN:STANDARD
TZOFFSETFROM:-0400
TZOFFSETTO:-0500
TZNAME:EST
DTSTART:20181104T060000
END:STANDARD
BEGIN:DAYLIGHT
TZOFFSETFROM:-0500
TZOFFSETTO:-0400
TZNAME:EDT
DTSTART:20190310T070000
END:DAYLIGHT
BEGIN:STANDARD
TZOFFSETFROM:-0400
TZOFFSETTO:-0500
TZNAME:EST
DTSTART:20191103T060000
END:STANDARD
BEGIN:DAYLIGHT
TZOFFSETFROM:-0500
TZOFFSETTO:-0400
TZNAME:EDT
DTSTART:20200308T070000
END:DAYLIGHT
BEGIN:STANDARD
TZOFFSETFROM:-0400
TZOFFSETTO:-0500
TZNAME:EST
DTSTART:20201101T060000
END:STANDARD
END:VTIMEZONE
BEGIN:VEVENT
DTSTART;VALUE=DATE:20190517
DTEND;VALUE=DATE:20190520
DTSTAMP:20260423T101419
CREATED:20190214T233648Z
LAST-MODIFIED:20190314T033205Z
UID:1683-1558051200-1558310399@www.skmensemmaus.org
SUMMARY:St Kevin Men's Emmaus Spiritual Retreat
DESCRIPTION:What is Emmaus? It is a Christian retreat put on by men of this parish\, where you will spend the weekend with newfound friends in the presence of the Lord. Emmaus gets its name from the Gospel of Luke 24: 13–35\, wherein Luke recounts that first Easter afternoon when the risen Christ appeared along the road from Jerusalem to Emmaus. \nLike the majority of the persons who are blinded by their preoccupation with their own immediate problems\, these two disciples’ sadness and hopelessness seemed to prevent them from seeing God’s redemptive purpose in the things that had happened. And yet\, the risen Christ “came near and went with them”\, opening disciples eyes to His presence and lighting the fire of God’s love in their hearts. \nThe Emmaus movement is ecumenical. We invite involve Christians of all denominations. Emmaus also seeks to foster Christian unity and to reinforce the whole Christian community. This is one of the great strengths and enjoys of the Emmaus movement. \nWhy Emmaus? We all need to take time away from the hustle of today’s world. This is your opportunity to set some time apart for yourself\, to reflect\, to share\, and to learn about Jesus. \nWhat happens during the retreat? The walk to Emmaus offers retreatants an opportunity to rediscover Christ’s presence in their lives\, to gain a fresh understanding of God’s grace\, and to form friendships that foster faith and support spiritual maturity. \nHow much does it cost? Other than volunteer retreat team members\, there is no charge to attend retreat\, a gift made possible from the parish’s Men’s Emmaus ministry semi-annual fundraisers and donations (any remaining funds after the retreat are donated to our parish). However\, you are more than welcomed to make donations at any time payable to “Men’s Emmaus” and drop-off at our church’s rectory. \nCan I bring a friend? Everyone is always welcomed. However\, each person attending must complete and submit registration form no later than 12:00 noon the day before retreat starts to insure proper accommodations. Space limited to 50 retreatants. \nRetreat Need to Know \n\n\n\n\nRetreat Schedule  \nThree days and two nights \n\n\nChecklist \nPersonal items you need to bring for retreat \n\n\n\nDate\nFri May 17th – Sun May 19th\, 2019\n□ Towel(s) \n□ Toiletries \n□ Pillow \n□ Beddings \n□ Pajamas\, etc..\n□ Casual comfortable clothing \n□ Medication(s) \n□ Big appetite!\n\n\nTime\nFri 6:30 PM Sharp\, Sun 3:30 PM\n\n\nLocation\n12525 SW 42nd St\, Miami\, FL 33175\n\n\nMass\nSun\, May 26th\, 2019 @ 11:15 AM\n\n\nContact\nFor more info call (000) 000-0000\n\n\n\nShare this:\n				Share on X (Opens in new window)\n				X\n			\n				Share on Facebook (Opens in new window)\n				Facebook\n			Like this:Like Loading...
URL:https://www.skmensemmaus.org/event/st-kevin-mens-emmaus-spiritual-retreat-2/
LOCATION:St Kevin Roman Catholic Church\, 12525 SW 42nd Street\, Miami\, FL\, 33175\, United States
CATEGORIES:Retreats
END:VEVENT
BEGIN:VEVENT
DTSTART;TZID=America/New_York:20190508T080000
DTEND;TZID=America/New_York:20190508T170000
DTSTAMP:20260423T101419
CREATED:20190314T032448Z
LAST-MODIFIED:20190314T032627Z
UID:1800-1557302400-1557334800@www.skmensemmaus.org
SUMMARY:St Kevin Men’s Emmaus Spiritual Retreat Formation Meeting - Week 9 of 9
DESCRIPTION:Share this:\n				Share on X (Opens in new window)\n				X\n			\n				Share on Facebook (Opens in new window)\n				Facebook\n			Like this:Like Loading...
URL:https://www.skmensemmaus.org/event/st-kevin-mens-emmaus-spiritual-retreat-formation-meeting-week-9-of-9/
LOCATION:St Kevin Roman Catholic Church\, 12525 SW 42nd Street\, Miami\, FL\, 33175\, United States
CATEGORIES:Member Meetings
END:VEVENT
BEGIN:VEVENT
DTSTART;TZID=America/New_York:20190501T200000
DTEND;TZID=America/New_York:20190501T220000
DTSTAMP:20260423T101419
CREATED:20190314T032306Z
LAST-MODIFIED:20190314T033344Z
UID:1798-1556740800-1556748000@www.skmensemmaus.org
SUMMARY:St Kevin Men’s Emmaus Spiritual Retreat Formation Meeting - Week 8 of 9
DESCRIPTION:Share this:\n				Share on X (Opens in new window)\n				X\n			\n				Share on Facebook (Opens in new window)\n				Facebook\n			Like this:Like Loading...
URL:https://www.skmensemmaus.org/event/st-kevin-mens-emmaus-spiritual-retreat-formation-meeting-week-8-of-9/
LOCATION:St Kevin Roman Catholic Church\, 12525 SW 42nd Street\, Miami\, FL\, 33175\, United States
CATEGORIES:Member Meetings
END:VEVENT
BEGIN:VEVENT
DTSTART;TZID=America/New_York:20190424T200000
DTEND;TZID=America/New_York:20190424T220000
DTSTAMP:20260423T101419
CREATED:20190314T032133Z
LAST-MODIFIED:20190314T032133Z
UID:1796-1556136000-1556143200@www.skmensemmaus.org
SUMMARY:St Kevin Men’s Emmaus Spiritual Retreat Formation Meeting - Week 7 of 9
DESCRIPTION:Share this:\n				Share on X (Opens in new window)\n				X\n			\n				Share on Facebook (Opens in new window)\n				Facebook\n			Like this:Like Loading...
URL:https://www.skmensemmaus.org/event/st-kevin-mens-emmaus-spiritual-retreat-formation-meeting-week-7-of-9/
LOCATION:St Kevin Roman Catholic Church\, 12525 SW 42nd Street\, Miami\, FL\, 33175\, United States
CATEGORIES:Member Meetings
END:VEVENT
BEGIN:VEVENT
DTSTART;TZID=America/New_York:20190417T200000
DTEND;TZID=America/New_York:20190417T220000
DTSTAMP:20260423T101419
CREATED:20190314T032000Z
LAST-MODIFIED:20190314T032000Z
UID:1794-1555531200-1555538400@www.skmensemmaus.org
SUMMARY:St Kevin Men’s Emmaus Spiritual Retreat Formation Meeting - Week 6 of 9
DESCRIPTION:Share this:\n				Share on X (Opens in new window)\n				X\n			\n				Share on Facebook (Opens in new window)\n				Facebook\n			Like this:Like Loading...
URL:https://www.skmensemmaus.org/event/st-kevin-mens-emmaus-spiritual-retreat-formation-meeting-week-6-of-9/
LOCATION:St Kevin Roman Catholic Church\, 12525 SW 42nd Street\, Miami\, FL\, 33175\, United States
CATEGORIES:Member Meetings
END:VEVENT
BEGIN:VEVENT
DTSTART;TZID=America/New_York:20190410T200000
DTEND;TZID=America/New_York:20190410T220000
DTSTAMP:20260423T101419
CREATED:20190314T031809Z
LAST-MODIFIED:20190314T031809Z
UID:1792-1554926400-1554933600@www.skmensemmaus.org
SUMMARY:St Kevin Men’s Emmaus Spiritual Retreat Formation Meeting - Week 5 of 9
DESCRIPTION:Share this:\n				Share on X (Opens in new window)\n				X\n			\n				Share on Facebook (Opens in new window)\n				Facebook\n			Like this:Like Loading...
URL:https://www.skmensemmaus.org/event/st-kevin-mens-emmaus-spiritual-retreat-formation-meeting-week-5-of-9/
LOCATION:St Kevin Roman Catholic Church\, 12525 SW 42nd Street\, Miami\, FL\, 33175\, United States
CATEGORIES:Member Meetings
END:VEVENT
BEGIN:VEVENT
DTSTART;TZID=America/New_York:20190407T080000
DTEND;TZID=America/New_York:20190407T140000
DTSTAMP:20260423T101419
CREATED:20190405T142303Z
LAST-MODIFIED:20190405T142303Z
UID:1878-1554624000-1554645600@www.skmensemmaus.org
SUMMARY:SK Men's Emmaus Retreat Fundraiser @ St Kevin Catholic Church
DESCRIPTION:Beautiful different variety of bromeliads plants for sale to raise money for upcoming May 2019 St Kevin Men’s Emmaus Spiritual Retreat (Learn more). \nPrices: \n\n1 @ $5\n2 @ $7 ($3.50 ea\, Save $1.50 ea)\n3 @ $10 ($3.33 ea\, Save $1.67 ea)\n5 @ $15 ($3.00 ea\, Save $2.00 ea)\n7 @ $20 ($2.85 ea\, Save $2.15 ea)\n10 @ $25 ($2.50 ea\, Save $2.50 ea)\n\nVolunteers needed to: \n\nSetup Booth – Team (7:30 am Sharp!)\nMan Booth – Shift Teams (8:00 am – 2:00 pm) \, and\nTear-down/Pick-up/Clean-up Booth (2:00 pm Sharp!)\n\nVolunteers please contact event organizers to coordinate assignments and shifts availability. \nNote: If you are not able to volunteer for this event\, we welcome you to visit us with your family and friends just to say hello for support. Who knows\, you might decide to spruce up your home with these beautiful plants and/or give them as a gift. \nShare this:\n				Share on X (Opens in new window)\n				X\n			\n				Share on Facebook (Opens in new window)\n				Facebook\n			Like this:Like Loading...
URL:https://www.skmensemmaus.org/event/sk-mens-emmaus-retreat-fundraiser-st-kevin-catholic-church/
LOCATION:St Kevin Roman Catholic Church\, 12525 SW 42nd Street\, Miami\, FL\, 33175\, United States
END:VEVENT
BEGIN:VEVENT
DTSTART;TZID=America/New_York:20190403T200000
DTEND;TZID=America/New_York:20190403T220000
DTSTAMP:20260423T101419
CREATED:20190314T031639Z
LAST-MODIFIED:20190314T031639Z
UID:1790-1554321600-1554328800@www.skmensemmaus.org
SUMMARY:St Kevin Men’s Emmaus Spiritual Retreat Formation Meeting - Week 4 of 9
DESCRIPTION:Share this:\n				Share on X (Opens in new window)\n				X\n			\n				Share on Facebook (Opens in new window)\n				Facebook\n			Like this:Like Loading...
URL:https://www.skmensemmaus.org/event/st-kevin-mens-emmaus-spiritual-retreat-formation-meeting-week-4-of-9/
LOCATION:St Kevin Roman Catholic Church\, 12525 SW 42nd Street\, Miami\, FL\, 33175\, United States
CATEGORIES:Member Meetings
END:VEVENT
BEGIN:VEVENT
DTSTART;TZID=America/New_York:20190327T200000
DTEND;TZID=America/New_York:20190327T220000
DTSTAMP:20260423T101419
CREATED:20190314T031459Z
LAST-MODIFIED:20190314T031459Z
UID:1788-1553716800-1553724000@www.skmensemmaus.org
SUMMARY:St Kevin Men’s Emmaus Spiritual Retreat Formation Meeting - Week 3 of 9
DESCRIPTION:Share this:\n				Share on X (Opens in new window)\n				X\n			\n				Share on Facebook (Opens in new window)\n				Facebook\n			Like this:Like Loading...
URL:https://www.skmensemmaus.org/event/st-kevin-mens-emmaus-spiritual-retreat-formation-meeting-week-3-of-9/
LOCATION:FL
CATEGORIES:Member Meetings
END:VEVENT
BEGIN:VEVENT
DTSTART;TZID=America/New_York:20190323T080000
DTEND;TZID=America/New_York:20190323T140000
DTSTAMP:20260423T101419
CREATED:20190322T142928Z
LAST-MODIFIED:20190322T143342Z
UID:1864-1553328000-1553349600@www.skmensemmaus.org
SUMMARY:SK Men's Emmaus Retreat Fundraiser @ St Matthew the Apostle Episcopal Church
DESCRIPTION:Beautiful different variety of bromeliads plants for sale to raise money for upcoming May 2019 St Kevin Men’s Emmaus Spiritual Retreat (Learn more). \nPrices: \n\n1 @ $5\n2 @ $7 ($3.50 ea\, Save $1.50 ea)\n3 @ $10 ($3.33 ea\, Save $1.67 ea)\n5 @ $15 ($3.00 ea\, Save $2.00 ea)\n7 @ $20 ($2.85 ea\, Save $2.15 ea)\n10 @ $25 ($2.50 ea\, Save $2.50 ea)\n\nVolunteers needed to: \n\nSetup Booth – Team (7:30 am Sharp!)\nMan Booth – Shift Teams (8:00 am – 2:00 pm) \, and\nTear-down/Pick-up/Clean-up Booth (2:00 pm Sharp!)\n\nVolunteers please contact event organizers to coordinate assignments and shifts availability. \nNote: If you are not able to volunteer for this event\, we welcome you to visit us with your family and friends just to say hello for support. Who knows\, you might decide to spruce up your home with these beautiful plants and/or give them as a gift. \nShare this:\n				Share on X (Opens in new window)\n				X\n			\n				Share on Facebook (Opens in new window)\n				Facebook\n			Like this:Like Loading...
URL:https://www.skmensemmaus.org/event/sk-mens-emmaus-retreat-fundraiser-st-matthew-the-apostle-episcopal-church/
LOCATION:St Matthew the Apostle Episcopal Church\, 7410 Sunset Drive\, Miami\, FL\, 33143\, United States
CATEGORIES:Fundraisers
END:VEVENT
BEGIN:VEVENT
DTSTART;TZID=America/New_York:20190323T071500
DTEND;TZID=America/New_York:20190323T150000
DTSTAMP:20260423T101419
CREATED:20190315T215441Z
LAST-MODIFIED:20190315T215441Z
UID:1822-1553325300-1553353200@www.skmensemmaus.org
SUMMARY:9th Annual Archdiocese of Miami Men's Conference
DESCRIPTION:9th Annual Archdiocese of Miami Catholic Men’s Conference \n7 a.m. check-in \n8:00 am Mass offered by Archbishop Thomas Wenski \nFeatured guest speaker in English: Doug Barry of Battle Ready (EWTN) \nFeatured guest speaker in Spanish: Bishop Luis del Castillo\, SJ \n\n\nSchedule for the Day: \n\n7 a.m.  Registration/Coffee/Donuts\n8 a.m.  Mass with Archbishop Wenski\n9 a.m.  Opening Remarks\n9:30 a.m.  First Talk (English and Spanish Track)\n10:30 a.m.   Break\n11 a.m.  Second Talk (English and Spanish Track)\nNoon  Lunch\n1 p.m.  Third Talk (English and Spanish Track)\n2 p.m.  Benediction and Holy Hour\n3 p.m.  Closing Prayer\n\nConfession available from 9:30 a.m. to noon \nDoug Barry’s Talk Titles: \n\nHow to Prepare and Engage in the Fight\nHeroic Marriage\nBe a Battle Ready Parent\n\nBishop Luis del Castillo: \n\nConocimos a  Alguien que Nos Cambió La Vida\nSomos Miembros de una Familia Numerosa\nRecibimos una Buena Noticia que No Nos Podemos Guardar\n\nJoin us for a day of Mass with Archbishop Wenski\, great speakers\, fellowship with your Catholic brothers of the ADOM and confession throughout the day. If you can’t attend the full day come for part of the day. Bring your friends\, brother\, fathers and sons. Lunch included! \nCLICK TO REGISTER \n\n\nShare this:\n				Share on X (Opens in new window)\n				X\n			\n				Share on Facebook (Opens in new window)\n				Facebook\n			Like this:Like Loading...
URL:https://www.skmensemmaus.org/event/9th-annual-archdiocese-of-miami-mens-conference/
LOCATION:Nativity Catholic Church\, 5220 Johnson St\, Hollywood\, FL\, 33021\, United States
ORGANIZER;CN="Archdiocese of Miami":MAILTO:miamicatholicmen@gmail.com
END:VEVENT
BEGIN:VEVENT
DTSTART;TZID=America/New_York:20190320T200000
DTEND;TZID=America/New_York:20190320T220000
DTSTAMP:20260423T101419
CREATED:20190314T031244Z
LAST-MODIFIED:20190314T031244Z
UID:1786-1553112000-1553119200@www.skmensemmaus.org
SUMMARY:St Kevin Men’s Emmaus Spiritual Retreat Formation Meeting - Week 2 of 9
DESCRIPTION:Share this:\n				Share on X (Opens in new window)\n				X\n			\n				Share on Facebook (Opens in new window)\n				Facebook\n			Like this:Like Loading...
URL:https://www.skmensemmaus.org/event/st-kevin-mens-emmaus-spiritual-retreat-formation-meeting-week-2-of-9/
LOCATION:St Kevin Roman Catholic Church\, 12525 SW 42nd Street\, Miami\, FL\, 33175\, United States
CATEGORIES:Member Meetings
END:VEVENT
BEGIN:VEVENT
DTSTART;TZID=America/New_York:20190316T080000
DTEND;TZID=America/New_York:20190316T140000
DTSTAMP:20260423T101419
CREATED:20190314T163313Z
LAST-MODIFIED:20190314T163951Z
UID:1807-1552723200-1552744800@www.skmensemmaus.org
SUMMARY:SK Men's Emmaus Retreat Fundraiser @ St. Andrew Greek Orthodox Church
DESCRIPTION:Beautiful different variety of bromeliads plants for sale to raise money for upcoming May 2019 St Kevin Men’s Emmaus Spiritual Retreat (Learn more). \nPrices: \n\n1 @ $5\n2 @ $7 ($3.50 ea\, Save $1.50 ea)\n3 @ $10 ($3.33 ea\, Save $1.67 ea)\n5 @ $15 ($3.00 ea\, Save $2.00 ea)\n7 @ $20 ($2.85 ea\, Save $2.15 ea)\n10 @ $25 ($2.50 ea\, Save $2.50 ea)\n\nVolunteers needed to: \n\nSetup Booth – Team (7:30 am Sharp!)\nMan Booth – Shift Teams (8:00 am – 2:00 pm) \, and\nTear-down/Pick-up/Clean-up Booth (2:00 pm Sharp!)\n\nVolunteers please contact event organizers to coordinate assignments and shifts availability. \nNote: If you are not able to volunteer for this event\, we welcome you to visit us with your family and friends just to say hello for support. Who knows\, you might decide to spruce up your home with these beautiful plants and/or give them as a gift. \nShare this:\n				Share on X (Opens in new window)\n				X\n			\n				Share on Facebook (Opens in new window)\n				Facebook\n			Like this:Like Loading...
URL:https://www.skmensemmaus.org/event/sk-mens-emmaus-retreat-fundraiser-st-andrew-greek-orthodox-church/
LOCATION:St. Andrew Greek Orthodox Church\, 7901 N Kendall Dr\, Miami\, FL\, 33156\, United States
CATEGORIES:Fundraisers
END:VEVENT
BEGIN:VEVENT
DTSTART;TZID=America/New_York:20190316T073000
DTEND;TZID=America/New_York:20190316T110000
DTSTAMP:20260423T101419
CREATED:20190315T175546Z
LAST-MODIFIED:20190315T190100Z
UID:1814-1552721400-1552734000@www.skmensemmaus.org
SUMMARY:Lent - 40 Days of Preparation with Fr Omar Huesca\, Ret
DESCRIPTION:Our beloved Father Omar Huesca a very dear friend and accomplished spiritual speaker will be delivering us brothers only a Mass at St Peter & Paul Catholic Church @ 7:30 am Sharp\, followed by spiritual reflection on Lent at St Peter and Paul Catholic School till 11:00 am. It’s priceless and I can’t think of a better way to prepare for our May 2019 Emmaus retreat than for all of us attend if we can. I strongly recommend it. Don’t miss this incredible opportunity. \nShare this:\n				Share on X (Opens in new window)\n				X\n			\n				Share on Facebook (Opens in new window)\n				Facebook\n			Like this:Like Loading...
URL:https://www.skmensemmaus.org/event/lent-40-days-of-preparation-with-fr-omar-huesca/
LOCATION:St Peter & Paul Catholic School\, 1435 SW 12th Ave\, Miami\, FL\, 33129\, United States
CATEGORIES:Member Meetings
END:VEVENT
BEGIN:VEVENT
DTSTART;TZID=America/New_York:20190313T200000
DTEND;TZID=America/New_York:20190313T220000
DTSTAMP:20260423T101419
CREATED:20190314T030855Z
LAST-MODIFIED:20190314T030855Z
UID:1784-1552507200-1552514400@www.skmensemmaus.org
SUMMARY:St Kevin Men’s Emmaus Spiritual Retreat Formation Meeting - Week 1 of 9
DESCRIPTION:Share this:\n				Share on X (Opens in new window)\n				X\n			\n				Share on Facebook (Opens in new window)\n				Facebook\n			Like this:Like Loading...
URL:https://www.skmensemmaus.org/event/st-kevin-mens-emmaus-spiritual-retreat-formation-meeting-week-1-of-9/
LOCATION:St Kevin Roman Catholic Church\, 12525 SW 42nd Street\, Miami\, FL\, 33175\, United States
CATEGORIES:Member Meetings
END:VEVENT
BEGIN:VEVENT
DTSTART;TZID=America/New_York:20190302T080000
DTEND;TZID=America/New_York:20190302T140000
DTSTAMP:20260423T101419
CREATED:20190228T162209Z
LAST-MODIFIED:20190314T163108Z
UID:1699-1551513600-1551535200@www.skmensemmaus.org
SUMMARY:SK Men's Emmaus Retreat Fundraiser @ South Miami Lutheran Church
DESCRIPTION:Beautiful different variety of bromeliads plants for sale to raise money for upcoming May 2019 St Kevin Men’s Emmaus Spiritual Retreat (Learn more). \nPrices: \n\n1 @ $5\n2 @ $7 ($3.50 ea\, Save $1.50 ea)\n3 @ $10 ($3.33 ea\, Save $1.67 ea)\n5 @ $15 ($3.00 ea\, Save $2.00 ea)\n7 @ $20 ($2.85 ea\, Save $2.15 ea)\n10 @ $25 ($2.50 ea\, Save $2.50 ea)\n\nVolunteers needed to: \n\nSetup Booth – Team\nMan Booth – Shift Teams\, and\nTear-down/Pick-up/Clean-up Booth\n\nVolunteers please contact event organizers to coordinate assignments and shifts availability. \nNote: If you are not able to volunteer for this event\, we welcome you to visit us with your family and friends just to say hello for support. Who knows\, you might decide to spruce up your home with these beautiful plants and/or give them as a gift. \nShare this:\n				Share on X (Opens in new window)\n				X\n			\n				Share on Facebook (Opens in new window)\n				Facebook\n			Like this:Like Loading...
URL:https://www.skmensemmaus.org/event/mens-emmaus-retreat-fundraiser-plant-sale-south-miami-lutheran-church/
LOCATION:South Miami Lutheran Church\, 7190 Sunset Dr\, Miami\, FL\, 33143\, United States
CATEGORIES:Fundraisers
END:VEVENT
BEGIN:VEVENT
DTSTART;TZID=America/New_York:20190220T200000
DTEND;TZID=America/New_York:20190220T220000
DTSTAMP:20260423T101419
CREATED:20190219T051307Z
LAST-MODIFIED:20190219T200358Z
UID:1685-1550692800-1550700000@www.skmensemmaus.org
SUMMARY:Charla "No se inquieten por nada\, confía en el Señor" -Grisela
DESCRIPTION:Guest speaker Grisela with Comunidad  Siervo de Cristo Vivo \nShare this:\n				Share on X (Opens in new window)\n				X\n			\n				Share on Facebook (Opens in new window)\n				Facebook\n			Like this:Like Loading...
URL:https://www.skmensemmaus.org/event/charla-no-se-inquieten-por-nada-confia-en-el-senor-grisela-2/
LOCATION:St Kevin Roman Catholic Church\, 12525 SW 42nd Street\, Miami\, FL\, 33175\, United States
CATEGORIES:Member Meetings
END:VEVENT
END:VCALENDAR